BEGIN:VCALENDAR
VERSION:2.0
METHOD:PUBLISH
PRODID:-//Accessible Web Design//My Calendar//http://www.joedolson.com//v//EN';
BEGIN:VEVENT
UID:5596-105
LOCATION:Trillium Yoga Room 42 1/2 Elm St.  Potsdam NY 13676
SUMMARY:Sunday Morning Yoga &amp; Yoga Nidra with Morgan
DTSTAMP:20260510T093000
ORGANIZER;CN=admin:MAILTO:dalerhobson53@gmail.com
DTSTART:20260510T093000
DTEND:20260510T110000
CATEGORIES:Trillium Classes
URL;VALUE=URI:
DESCRIPTION;ENCODING=QUOTED-PRINTABLE:This is a class for all levels, beginners included! The first 60-minutes are all about finding structural alignment in yoga postures accompanied by time and pause for reflection. The forces of nature govern our bodies functions and well-being. There is an expanding force, a contracting force, a grounding and a rising force. We can look at each asana and see these forces working within our bodies. It’ is when we most efficiently harness the forces of nature inside of us that we can begin to move efficiently and sustainably through our lives! The final half hour will be a guided meditation inspired by the techniques of Yoga Nidra. A deep rest and reset.With Morgan DoyleEmail: morgandoyle397@gamil.com$15 drop-in&nbsp; 
END:VEVENT
END:VCALENDAR