BEGIN:VCALENDAR
VERSION:2.0
METHOD:PUBLISH
PRODID:-//Accessible Web Design//My Calendar//http://www.joedolson.com//v//EN';
BEGIN:VEVENT
UID:5623-158
LOCATION:Trillium Yoga Room 42 1/2 Elm St.  Potsdam NY 13676
SUMMARY:Beginner Pilates &amp; Yoga
DTSTAMP:20260511T171500
ORGANIZER;CN=admin:MAILTO:dalerhobson53@gmail.com
DTSTART:20260511T171500
DTEND:20260511T180000
CATEGORIES:Trillium Classes
URL;VALUE=URI:
DESCRIPTION;ENCODING=QUOTED-PRINTABLE:This class will teach alignment in dynamic movement to create a sustainable foundation to build strength. Designed for beginners and those seeking to dial in their form for efficiency &amp; longevity.With Morgan Doyle$6 drop-in 
END:VEVENT
END:VCALENDAR